BEGIN:VCALENDAR
VERSION:2.0
PRODID:-//eventon.com NONSGML v1.0//EN
CALSCALE:GREGORIAN
METHOD:PUBLISH
BEGIN:VEVENT
UID:69eb8cc1d93b8
DTSTAMP:20260424T153113Z
DTSTART:20221015T170000Z
DTEND:20221015T183000Z
LOCATION:Teatro Municipal de Tres Cantos
SUMMARY:Teatro: InAnna
DESCRIPTION:Espectáculo perteneciente a la Red de Teatros de la Comunidad 
 de Madrid. Compañía: Baraka TeatroProducción: Baraka TeatroDramaturgia y
  dirección: María CaudevillaElenco: Manuel Bonillo\,  Sara Campbell\,  Ka
 teryna Humenyuk y Susana Merino Teatro autoficción homenaje a Anna Campbel
 l y a su lucha por un mundo libre en el Kurdistán. Anna Campbell\,  joven[
 ..]\nhttps://360y5.es/events/teatro-inanna/
URL:https://360y5.es/events/teatro-inanna/
END:VEVENT
END:VCALENDAR