BEGIN:VCALENDAR
VERSION:2.0
PRODID:-//eventon.com NONSGML v1.0//EN
CALSCALE:GREGORIAN
METHOD:PUBLISH
BEGIN:VEVENT
UID:69ecfdd7ed79b
DTSTAMP:20260425T174559Z
DTSTART:20230520
DTEND:20230521
LOCATION:
SUMMARY:Pop-up comercios Tres Cantos
DESCRIPTION:En la Plaza Antonio Gala Participantes del Sábado 20 de mayo P
 articipantes del Domingo 21 de mayo.\nhttps://360y5.es/events/pop-up-comerc
 ios-tres-cantos/
URL:https://360y5.es/events/pop-up-comercios-tres-cantos/
END:VEVENT
END:VCALENDAR