BEGIN:VCALENDAR
VERSION:2.0
PRODID:-//eventon.com NONSGML v1.0//EN
CALSCALE:GREGORIAN
METHOD:PUBLISH
BEGIN:VEVENT
UID:69ecfd3a044c3
DTSTAMP:20260425T174322Z
DTSTART:20230531T170000Z
DTEND:20230531T183000Z
LOCATION:
SUMMARY:Charla: Lo extremeño: una cultura\,  un habla\,  una literatura
DESCRIPTION:Ponente: Juan Luis Requejo\,  profesor de literatura. Organiza:
  Casa de Extremadura de Tres Cantos. Organizado por la Casa de Extremadura 
 de Tres Cantos\,  el tricantino Juan Luis Requejo\,  aborda dos aspectos de
  “lo extremeño”. Uno de ellos trata de identificar ciertos rasgos que 
 caracterizan a la identidad y la cultura[..]\nhttps://360y5.es/events/charl
 a-lo-extremeno-una-cultura-un-habla-una-literatura/
URL:https://360y5.es/events/charla-lo-extremeno-una-cultura-un-habla-una-literatura/
END:VEVENT
END:VCALENDAR