BEGIN:VCALENDAR
VERSION:2.0
PRODID:-//eventon.com NONSGML v1.0//EN
CALSCALE:GREGORIAN
METHOD:PUBLISH
BEGIN:VEVENT
UID:69ecfac36edb9
DTSTAMP:20260425T173251Z
DTSTART:20230601T160000Z
DTEND:20230601T164500Z
LOCATION:Biblioteca Municipal Lope de Vega
SUMMARY:La hora de los cuentos: La cebra Camila
DESCRIPTION:NARRADORA: Ainhoa Limón Esta es la historia de una cebra que t
 iene un problema muy grande. Tiene miedo de los demás animales porque son 
 muy diferentes que ella. Son más altos o más bajos\,  más gordos o más 
 flacos\,  ¡¡¡y de diferentes colores!!!.. Con ayuda de la amistad y la[.
 .]\nhttps://360y5.es/events/la-hora-de-los-cuentos-la-cebra-camila/
URL:https://360y5.es/events/la-hora-de-los-cuentos-la-cebra-camila/
END:VEVENT
END:VCALENDAR