BEGIN:VCALENDAR
VERSION:2.0
PRODID:-//eventon.com NONSGML v1.0//EN
CALSCALE:GREGORIAN
METHOD:PUBLISH
BEGIN:VEVENT
UID:69ecfd26302da
DTSTAMP:20260425T174302Z
DTSTART:20230606T160000Z
DTEND:20230606T164500Z
LOCATION:Biblioteca municipal Fundación Caja Madrid
SUMMARY:Story time: El tren de las doce en punto
DESCRIPTION:CUENTACUENTOS: Chameleon Theatre El tren del mediodía está ll
 egando a la ciudad y lleva muchas cosas importantes: cartas\,  comida\,  ro
 pa y …. oro!. La banda de las manzanas y las bananas quieren robar el tre
 n. Sólo una persona puede pararles: la sheriff Daniela. Pero ella no pude 
 hacerlo sola: poneos[..]\nhttps://360y5.es/events/story-time-el-tren-de-las
 -doce-en-punto/
URL:https://360y5.es/events/story-time-el-tren-de-las-doce-en-punto/
END:VEVENT
END:VCALENDAR