BEGIN:VCALENDAR
VERSION:2.0
PRODID:-//eventon.com NONSGML v1.0//EN
CALSCALE:GREGORIAN
METHOD:PUBLISH
BEGIN:VEVENT
UID:69ece9a23c9b5
DTSTAMP:20260425T161946Z
DTSTART:20230601
DTEND:20230602
LOCATION:Biblioteca municipal Fundación Caja Madrid
SUMMARY:Exposición: XXXVIII Muestra del Libro Infantil y Juvenil
DESCRIPTION:La Muestra del Libro Infantil y Juvenil es una selección de la
 s novedades literarias más destacadas publicadas en el año anterior\,  qu
 e sirve de guía y ayuda a la hora de valorar y recomendar libros\,  convir
 tiéndose en una herramienta útil para bibliotecarios\,  educadores\,  pad
 res y madres y\,  por supuesto\,  los[..]\nhttps://360y5.es/events/exposici
 on-xxxviii-muestra-del-libro-infantil-y-juvenil/
URL:https://360y5.es/events/exposicion-xxxviii-muestra-del-libro-infantil-y-juvenil/
END:VEVENT
END:VCALENDAR