BEGIN:VCALENDAR
VERSION:2.0
PRODID:-//eventon.com NONSGML v1.0//EN
CALSCALE:GREGORIAN
METHOD:PUBLISH
BEGIN:VEVENT
UID:69ecec4d9f5fd
DTSTAMP:20260425T163109Z
DTSTART:20230704
DTEND:20230705
LOCATION:Factoría Cultural
SUMMARY:Técnicas de autocuidado y de gestión emocional en el ámbito de la diversidad funcional
DESCRIPTION:El Área de Atención a la Diversidad Funcional de la Oficina d
 e Acción Solidaria y Cooperación y la concejalía de Familia e Igualdad d
 el Ayuntamiento de Tres Cantos\,  organizan el curso “Técnicas de autocu
 idado y de gestión emocional en el ámbito de la diversidad funcional” e
 n el Salón de Actos[..]\nhttps://360y5.es/events/tecnicas-de-autocuidado-y
 -de-gestion-emocional-en-el-ambito-de-la-diversidad-funcional/
URL:https://360y5.es/events/tecnicas-de-autocuidado-y-de-gestion-emocional-en-el-ambito-de-la-diversidad-funcional/
END:VEVENT
END:VCALENDAR