BEGIN:VCALENDAR
VERSION:2.0
PRODID:-//eventon.com NONSGML v1.0//EN
CALSCALE:GREGORIAN
METHOD:PUBLISH
BEGIN:VEVENT
UID:69ece83387cff
DTSTAMP:20260425T161339Z
DTSTART:20230601
DTEND:20230602
LOCATION:Centro Deportivo Gabriel Parellada
SUMMARY:Mini olimpiadas
DESCRIPTION:De 9 a 14 horas. Como cada aÃ±o mÃ¡s de 3.000 escolares se darÃ
 ¡n cita en las ya tradicionales MiniOlimnpiadas de Tres Cantos\,  donde dis
 frutarÃ¡n de una jornada matinal de deporte\,  ocio y diversiÃ³n.\nhttps://
 360y5.es/events/mini-olimpiadas/
URL:https://360y5.es/events/mini-olimpiadas/
END:VEVENT
END:VCALENDAR