BEGIN:VCALENDAR
VERSION:2.0
PRODID:-//eventon.com NONSGML v1.0//EN
CALSCALE:GREGORIAN
METHOD:PUBLISH
BEGIN:VEVENT
UID:69ecec58eacab
DTSTAMP:20260425T163120Z
DTSTART:20230603T070000Z
DTEND:20230603T190000Z
LOCATION:Polideportivo de La Luz
SUMMARY:XX Torneo 4x4 Voleibol
DESCRIPTION:Torneo abierto para disfrutar del voleibol en la modalidad de 4
 &#215;4. Durante toda la jornada del sábado 3 de junio se podrá disfrutar
  de numerosos partidos en las 3 pistas acondicionadas para tal evento. Info
 rmación e inscripciones: 663 03 12 93\nhttps://360y5.es/events/xx-torneo-4
 x4-voleibol/
URL:https://360y5.es/events/xx-torneo-4x4-voleibol/
END:VEVENT
END:VCALENDAR