BEGIN:VCALENDAR
VERSION:2.0
PRODID:-//eventon.com NONSGML v1.0//EN
CALSCALE:GREGORIAN
METHOD:PUBLISH
BEGIN:VEVENT
UID:69ece9517bc9c
DTSTAMP:20260425T161825Z
DTSTART:20230604T070000Z
DTEND:20230604T130000Z
LOCATION:Polideportivo de La Luz
SUMMARY:Torneo escuelas voleibol
DESCRIPTION:Los más pequeños podrán cerrar la temporada con este torneo 
 donde participarán equipos de los municipios colindantes.\nhttps://360y5.e
 s/events/torneo-escuelas-voleibol/
URL:https://360y5.es/events/torneo-escuelas-voleibol/
END:VEVENT
END:VCALENDAR