BEGIN:VCALENDAR
VERSION:2.0
PRODID:-//eventon.com NONSGML v1.0//EN
CALSCALE:GREGORIAN
METHOD:PUBLISH
BEGIN:VEVENT
UID:69ecd967661b8
DTSTAMP:20260425T151031Z
DTSTART:20230604T170000Z
DTEND:20230604T180000Z
LOCATION:Auditorio municipal
SUMMARY:Copla: Tres Cantos al son de la Copla
DESCRIPTION:Organiza: Casa Cultural de Andalucía de Tres Cantos. Entrada: 
 Gratuita (recoger entradas una hora antes del evento).\nhttps://360y5.es/ev
 ents/copla-tres-cantos-al-son-de-la-copla/
URL:https://360y5.es/events/copla-tres-cantos-al-son-de-la-copla/
END:VEVENT
END:VCALENDAR