BEGIN:VCALENDAR
VERSION:2.0
PRODID:-//eventon.com NONSGML v1.0//EN
CALSCALE:GREGORIAN
METHOD:PUBLISH
BEGIN:VEVENT
UID:69ecd72701faf
DTSTAMP:20260425T150055Z
DTSTART:20230607T163000Z
DTEND:20230607T180000Z
LOCATION:Auditorio municipal
SUMMARY:Concierto monográfico de orquestas
DESCRIPTION:Escuela municipal de música. Entrada: Libre hasta completar af
 oro.\nhttps://360y5.es/events/concierto-monografico-de-orquestas/
URL:https://360y5.es/events/concierto-monografico-de-orquestas/
END:VEVENT
END:VCALENDAR