BEGIN:VCALENDAR
VERSION:2.0
PRODID:-//eventon.com NONSGML v1.0//EN
CALSCALE:GREGORIAN
METHOD:PUBLISH
BEGIN:VEVENT
UID:69ecd5e2a2fc7
DTSTAMP:20260425T145530Z
DTSTART:20230610T170000Z
DTEND:20230610T180000Z
LOCATION:Auditorio municipal
SUMMARY:Concierto del taller Ópera Andante
DESCRIPTION:Escuela municipal de música. Entrada: Libre hasta completar af
 oro.\nhttps://360y5.es/events/concierto-del-taller-opera-andante/
URL:https://360y5.es/events/concierto-del-taller-opera-andante/
END:VEVENT
END:VCALENDAR