BEGIN:VCALENDAR
VERSION:2.0
PRODID:-//eventon.com NONSGML v1.0//EN
CALSCALE:GREGORIAN
METHOD:PUBLISH
BEGIN:VEVENT
UID:69ecd51d6bfec
DTSTAMP:20260425T145213Z
DTSTART:20230613T170000Z
DTEND:20230613T180000Z
LOCATION:Auditorio municipal
SUMMARY:Concierto monográfico de violonchelos
DESCRIPTION:Escuela municipal de música. Entrada: Libre hasta completar af
 oro.\nhttps://360y5.es/events/concierto-monografico-de-violonchelos/
URL:https://360y5.es/events/concierto-monografico-de-violonchelos/
END:VEVENT
END:VCALENDAR