BEGIN:VCALENDAR
VERSION:2.0
PRODID:-//eventon.com NONSGML v1.0//EN
CALSCALE:GREGORIAN
METHOD:PUBLISH
BEGIN:VEVENT
UID:69ecd6a22a09c
DTSTAMP:20260425T145842Z
DTSTART:20230615T163000Z
DTEND:20230615T180000Z
LOCATION:Auditorio municipal
SUMMARY:Concierto monográfico de clarinete
DESCRIPTION:Escuela municipal de música. Entrada: Libre hasta completar af
 oro.\nhttps://360y5.es/events/concierto-monografico-de-clarinete/
URL:https://360y5.es/events/concierto-monografico-de-clarinete/
END:VEVENT
END:VCALENDAR