BEGIN:VCALENDAR
VERSION:2.0
PRODID:-//eventon.com NONSGML v1.0//EN
CALSCALE:GREGORIAN
METHOD:PUBLISH
BEGIN:VEVENT
UID:69ecd66243c11
DTSTAMP:20260425T145738Z
DTSTART:20230615T170000Z
DTEND:20230615T180000Z
LOCATION:Auditorio municipal
SUMMARY:Concierto monográfico de música moderna
DESCRIPTION:Escuela municipal de música en colaboración con «Mi Lupe« E
 ntrada: Libre hasta completar aforo.\nhttps://360y5.es/events/concierto-mon
 ografico-de-musica-moderna/
URL:https://360y5.es/events/concierto-monografico-de-musica-moderna/
END:VEVENT
END:VCALENDAR