BEGIN:VCALENDAR
VERSION:2.0
PRODID:-//eventon.com NONSGML v1.0//EN
CALSCALE:GREGORIAN
METHOD:PUBLISH
BEGIN:VEVENT
UID:69ecd589e68c8
DTSTAMP:20260425T145401Z
DTSTART:20230613T150000Z
DTEND:20230613T163000Z
LOCATION:Auditorio municipal
SUMMARY:Concierto monográfico de percusión
DESCRIPTION:Escuela municipal de música. Entrada: Libre hasta completar af
 oro.\nhttps://360y5.es/events/concierto-monografico-de-percusion/
URL:https://360y5.es/events/concierto-monografico-de-percusion/
END:VEVENT
END:VCALENDAR