BEGIN:VCALENDAR
VERSION:2.0
PRODID:-//eventon.com NONSGML v1.0//EN
CALSCALE:GREGORIAN
METHOD:PUBLISH
BEGIN:VEVENT
UID:69ecbfd8ee088
DTSTAMP:20260425T132128Z
DTSTART:20230614T160000Z
DTEND:20230614T190000Z
LOCATION:Teatro Municipal de Tres Cantos
SUMMARY:Festival de teatro infantil
DESCRIPTION:Escuela municipal de teatro. A las 18 horas: Grupo infantil de 
 4-7 años.«En el país de los sueños»Representación de una comedia acer
 ca de un niño que descubre el placer de soñar. A las 20 horas: Grupo infa
 ntil 8-11 años.«Cuentos de hoy en día»Se presentarán dos piezas teatra
 les en clave de[..]\nhttps://360y5.es/events/festival-de-teatro-infantil/
URL:https://360y5.es/events/festival-de-teatro-infantil/
END:VEVENT
END:VCALENDAR