BEGIN:VCALENDAR
VERSION:2.0
PRODID:-//eventon.com NONSGML v1.0//EN
CALSCALE:GREGORIAN
METHOD:PUBLISH
BEGIN:VEVENT
UID:69ecbf9b7fec0
DTSTAMP:20260425T132027Z
DTSTART:20230624T180000Z
DTEND:20230624T190000Z
LOCATION:Teatro Municipal de Tres Cantos
SUMMARY:Teatro: Simplemente comediantes
DESCRIPTION:Grupo iniciación A de la Escuela municipal de teatro. Muestra 
 de escenas de autores clásicos y contemporáneos. En palabras de García L
 orca: “para mostrarles las cosas\,  las cosillas y las cositillas del mun
 do”. Al fin y al cabo\,  según Shakespeare: “El mundo entero es un tea
 tro\,  y todos los hombres[..]\nhttps://360y5.es/events/teatro-simplemente-
 comediantes/
URL:https://360y5.es/events/teatro-simplemente-comediantes/
END:VEVENT
END:VCALENDAR