BEGIN:VCALENDAR
VERSION:2.0
PRODID:-//eventon.com NONSGML v1.0//EN
CALSCALE:GREGORIAN
METHOD:PUBLISH
BEGIN:VEVENT
UID:69ecc2b7107b8
DTSTAMP:20260425T133343Z
DTSTART:20230626T180000Z
DTEND:20230626T190000Z
LOCATION:Teatro Municipal de Tres Cantos
SUMMARY:Teatro: Esto no es lo que parece
DESCRIPTION:Grupo iniciación B de la Escuela municipal de teatro. Obra con
 stituida de piezas teatrales breves de autores actuales\,  en clave de humo
 r. Dirección y adaptación: Mercedes Lur. Entrada: Libre hasta completar a
 foro.\nhttps://360y5.es/events/teatro-esto-no-es-lo-que-parece/
URL:https://360y5.es/events/teatro-esto-no-es-lo-que-parece/
END:VEVENT
END:VCALENDAR