BEGIN:VCALENDAR
VERSION:2.0
PRODID:-//eventon.com NONSGML v1.0//EN
CALSCALE:GREGORIAN
METHOD:PUBLISH
BEGIN:VEVENT
UID:69ecc4bb705e5
DTSTAMP:20260425T134219Z
DTSTART:20230630T170000Z
DTEND:20230630T180000Z
LOCATION:Teatro Municipal de Tres Cantos
SUMMARY:Teatro: Vanessa y Julieta
DESCRIPTION:Grupo 12-14 de la Escuela municipal de teatro. Versión libre b
 asada en el texto de William Shakespeare. Dirección y adaptación: Mercede
 s Lur. Entrada: Libre hasta completar aforo.\nhttps://360y5.es/events/teatr
 o-vanessa-y-julieta/
URL:https://360y5.es/events/teatro-vanessa-y-julieta/
END:VEVENT
END:VCALENDAR