BEGIN:VCALENDAR
VERSION:2.0
PRODID:-//eventon.com NONSGML v1.0//EN
CALSCALE:GREGORIAN
METHOD:PUBLISH
BEGIN:VEVENT
UID:69ecbfc41cd85
DTSTAMP:20260425T132108Z
DTSTART:20230623T170000Z
DTEND:20230623T183000Z
LOCATION:Auditorio municipal
SUMMARY:Concierto de fin de curso
DESCRIPTION:Escuela municipal de música. Entrada: Libre hasta completar af
 oro.\nhttps://360y5.es/events/concierto-de-fin-de-curso/
URL:https://360y5.es/events/concierto-de-fin-de-curso/
END:VEVENT
END:VCALENDAR