BEGIN:VCALENDAR
VERSION:2.0
PRODID:-//eventon.com NONSGML v1.0//EN
CALSCALE:GREGORIAN
METHOD:PUBLISH
BEGIN:VEVENT
UID:69ecc45d77bfe
DTSTAMP:20260425T134045Z
DTSTART:20230625T170000Z
DTEND:20230625T183000Z
LOCATION:Teatro Municipal de Tres Cantos
SUMMARY:Festival fin de curso Casa cultural de Andalucía
DESCRIPTION:Organiza: Casa cultural de Andalucía en Tres Cantos Actuación
  de las Escuelas de Baile Flamenco\,  Sevillanas\,  Cajón Flamenco y Baile
 s de Salón\,  así como del Coro Rociero “Entre amigos”. Entrada: 2 eu
 ros Venta de entradas en horario habitual de taquilla y en giglon.\nhttps:/
 /360y5.es/events/festival-fin-de-curso-casa-cultural-de-andalucia/
URL:https://360y5.es/events/festival-fin-de-curso-casa-cultural-de-andalucia/
END:VEVENT
END:VCALENDAR