BEGIN:VCALENDAR
VERSION:2.0
PRODID:-//eventon.com NONSGML v1.0//EN
CALSCALE:GREGORIAN
METHOD:PUBLISH
BEGIN:VEVENT
UID:69ecbf888245c
DTSTAMP:20260425T132008Z
DTSTART:20230629T160000Z
DTEND:20230629T173000Z
LOCATION:Teatro Municipal de Tres Cantos
SUMMARY:Muestra teatral Arteluna teatro
DESCRIPTION:La escuela Arteluna Teatro\,  cierra su curso con las obras: â€
 œToc-Tocâ€\,  â€œLa barca sin pescadorâ€\,  â€œAgostoâ€ Y â€œEl gran Sho
 wmanâ€. Un cocktail de comedia\,  teatro musical\,  drama y danza teatro\,
   aderezado de mucho cariÃ±o e ilusiÃ³n. Entrada: 2 euros Venta de entradas
  en horario habitual de taquilla y en giglon.\nhttps://360y5.es/events/mues
 tra-teatral-arteluna-teatro/
URL:https://360y5.es/events/muestra-teatral-arteluna-teatro/
END:VEVENT
END:VCALENDAR