BEGIN:VCALENDAR
VERSION:2.0
PRODID:-//eventon.com NONSGML v1.0//EN
CALSCALE:GREGORIAN
METHOD:PUBLISH
BEGIN:VEVENT
UID:69eca84867b89
DTSTAMP:20260425T114056Z
DTSTART:20230529T070000Z
DTEND:20230601T190000Z
LOCATION:Centro Cultural Adolfo Suárez
SUMMARY:Exposición de dibujo y pintura
DESCRIPTION:En el Rincón del Arte. Exposición de fin de curso: Dibujo y p
 intura del alumnado de las AMPAS de los CEIPS Ciudad de Nejapa y Aldebarán
 .\nhttps://360y5.es/events/exposicion-de-dibujo-y-pintura/
URL:https://360y5.es/events/exposicion-de-dibujo-y-pintura/
END:VEVENT
END:VCALENDAR