BEGIN:VCALENDAR
VERSION:2.0
PRODID:-//eventon.com NONSGML v1.0//EN
CALSCALE:GREGORIAN
METHOD:PUBLISH
BEGIN:VEVENT
UID:69eca75a4f3aa
DTSTAMP:20260425T113658Z
DTSTART:20230609T070000Z
DTEND:20230616T190000Z
LOCATION:Centro Cultural Adolfo Suárez
SUMMARY:Exposición AMPA Tierno Galván
DESCRIPTION:En el Rincón del Arte. Obras realizadas por la AMPA del CEIP T
 ierno Galván.\nhttps://360y5.es/events/exposicion-ampa-tierno-galvan/
URL:https://360y5.es/events/exposicion-ampa-tierno-galvan/
END:VEVENT
END:VCALENDAR