BEGIN:VCALENDAR
VERSION:2.0
PRODID:-//eventon.com NONSGML v1.0//EN
CALSCALE:GREGORIAN
METHOD:PUBLISH
BEGIN:VEVENT
UID:69eca78bb2ca4
DTSTAMP:20260425T113747Z
DTSTART:20230609T070000Z
DTEND:20230625T190000Z
LOCATION:Centro Cultural Adolfo Suárez
SUMMARY:Exposición: Trabajos realizados en los talleres del centro cultural
DESCRIPTION:Salas Pedro Navares\,  Van Drell y Gutiérrez Montiel. Trabajos
  realizados por el alumnado de los talleres del centro comercial. Inaugurac
 ión: viernes 9 a las 19 horas.\nhttps://360y5.es/events/exposicion-trabajo
 s-realizados-en-los-talleres-del-centro-cultural/
URL:https://360y5.es/events/exposicion-trabajos-realizados-en-los-talleres-del-centro-cultural/
END:VEVENT
END:VCALENDAR