BEGIN:VCALENDAR
VERSION:2.0
PRODID:-//eventon.com NONSGML v1.0//EN
CALSCALE:GREGORIAN
METHOD:PUBLISH
BEGIN:VEVENT
UID:69eca7e4a6670
DTSTAMP:20260425T113916Z
DTSTART:20230609
DTEND:20230610
LOCATION:Campos de fútbol Foresta Avenida de la Vega\,  s/n\,  Tres Cantos\,  Madrid
SUMMARY:Memorial José Luis Fons y Carmen Heredia
DESCRIPTION:Horario: de 11 a 21 horas. Un año más\,  este torneo enmarcad
 o en el calendario de la Federación Madrileña de Natación\,  dará inici
 o al comienzo de la temporada de verano. Torneo de waterpolo de categoría 
 infantil donde los mejores equipos de la Comunidad de Madrid competirán d
 urante 3 jornadas.\nhttps://360y5.es/events/memorial-jose-luis-fons-y-carme
 n-heredia/
URL:https://360y5.es/events/memorial-jose-luis-fons-y-carmen-heredia/
END:VEVENT
END:VCALENDAR