BEGIN:VCALENDAR
VERSION:2.0
PRODID:-//eventon.com NONSGML v1.0//EN
CALSCALE:GREGORIAN
METHOD:PUBLISH
BEGIN:VEVENT
UID:69ea08506f344
DTSTAMP:20260423T115352Z
DTSTART:20230622T183000Z
DTEND:20230622T193000Z
LOCATION:
SUMMARY:VIII Festival Circalle3C: Circo-teatro Alone
DESCRIPTION:En el Sector Embarcaciones. ALONE entra en su casa y lo logra\,
   está SOLA! Es la más lista\,  guapa y reina de la casa. Si! Porque ella
  está SOLA! Así comienza esta historia\,  estados anímicos que van del p
 lacer a la desesperación que se alteran a partir de una constante[..]\nhtt
 ps://360y5.es/events/circo-teatro-alone/
URL:https://360y5.es/events/circo-teatro-alone/
END:VEVENT
END:VCALENDAR