BEGIN:VCALENDAR
VERSION:2.0
PRODID:-//eventon.com NONSGML v1.0//EN
CALSCALE:GREGORIAN
METHOD:PUBLISH
BEGIN:VEVENT
UID:69ea098b92213
DTSTAMP:20260423T115907Z
DTSTART:20230628T160000Z
DTEND:20230628T164500Z
LOCATION:Biblioteca Municipal Lope de Vega
SUMMARY:Cuentaller: Ricitos de oso
DESCRIPTION:A cargo de: Totemcamp El CuenTaller es una actividad diseñada 
 para niñas y niños a partir de 4 años que consiste en dos partes. En la 
 primera parte\,  los niños podrán disfrutar de un cuentacuentos en el que
  se narrará la historia de «Ricitos de oso»\,  un divertido cuento que[.
 .]\nhttps://360y5.es/events/cuentaller-ricitos-de-oso/
URL:https://360y5.es/events/cuentaller-ricitos-de-oso/
END:VEVENT
END:VCALENDAR