BEGIN:VCALENDAR
VERSION:2.0
PRODID:-//eventon.com NONSGML v1.0//EN
CALSCALE:GREGORIAN
METHOD:PUBLISH
BEGIN:VEVENT
UID:69ea086461c8e
DTSTAMP:20260423T115412Z
DTSTART:20230617T090000Z
DTEND:20230617T094500Z
LOCATION:Biblioteca Municipal Lope de Vega
SUMMARY:BBTaller activo
DESCRIPTION:A CARGO DE: Totemcamp Experiencia de lectura sensorial para beb
 és de 1 a 3 años en compañía de sus familias a partir de una dinámica 
 integrada por cestitas de cuentos e instrumentos musicales de madera\,  en 
 el que dos contadoras «cantarán» algunos de los cuentos de la colección
  «De la[..]\nhttps://360y5.es/events/bbtaller-activo/
URL:https://360y5.es/events/bbtaller-activo/
END:VEVENT
END:VCALENDAR