BEGIN:VCALENDAR
VERSION:2.0
PRODID:-//eventon.com NONSGML v1.0//EN
CALSCALE:GREGORIAN
METHOD:PUBLISH
BEGIN:VEVENT
UID:69ea099607a35
DTSTAMP:20260423T115918Z
DTSTART:20230531T072100Z
DTEND:20230531T072100Z
LOCATION:
SUMMARY:Conciertos escenario joven
DESCRIPTION:22:00 h. &#8211; Perro Hueso (Hard Rock) 23:00 h. &#8211; El Su
 cio (Rock Alternativo) 00:00 h. &#8211; Warm Up a cargo de HARD TIMES CREW 
 01:00 h. &#8211; SOFIA CRISTO 02:30 h. &#8211; HARD TIMES CREW &#8211; 17SI
 NS + DREY + GNX b2b TXME 05:00 h: Fin de actuaciones.\nhttps://360y5.es/eve
 nts/conciertos-escenario-joven-6/
URL:https://360y5.es/events/conciertos-escenario-joven-6/
END:VEVENT
END:VCALENDAR