BEGIN:VCALENDAR
VERSION:2.0
PRODID:-//eventon.com NONSGML v1.0//EN
CALSCALE:GREGORIAN
METHOD:PUBLISH
BEGIN:VEVENT
UID:69ea083812dc6
DTSTAMP:20260423T115328Z
DTSTART:20230623T103000Z
DTEND:20230623T113000Z
LOCATION:
SUMMARY:Espectáculo de clown: Clown en la oficina
DESCRIPTION:Sector Descubridores. Malabares\,  humor y acrobacias. Duració
 n: 50 minutos. Edad recomendada: a partir de 3 años. Dos personajes circen
 ses montan una oficina de payasos. Los clientes llaman solicitando magos\, 
  malabaristas y hasta acróbatas\,  pero en ningún caso payasos. Esto comp
 lica el inicio de los que puede ser un gran futuro[..]\nhttps://360y5.es/ev
 ents/espectaculo-de-clown-clown-en-la-oficina-2/
URL:https://360y5.es/events/espectaculo-de-clown-clown-en-la-oficina-2/
END:VEVENT
END:VCALENDAR