BEGIN:VCALENDAR
VERSION:2.0
PRODID:-//eventon.com NONSGML v1.0//EN
CALSCALE:GREGORIAN
METHOD:PUBLISH
BEGIN:VEVENT
UID:69ea08ec15bf8
DTSTAMP:20260423T115628Z
DTSTART:20230623T093000Z
DTEND:20230623T103000Z
LOCATION:
SUMMARY:Actividades infantiles: Taller de frisbee
DESCRIPTION:Sector Descubridores.\nhttps://360y5.es/events/actividades-infa
 ntiles-taller-de-frisbee/
URL:https://360y5.es/events/actividades-infantiles-taller-de-frisbee/
END:VEVENT
END:VCALENDAR