BEGIN:VCALENDAR
VERSION:2.0
PRODID:-//eventon.com NONSGML v1.0//EN
CALSCALE:GREGORIAN
METHOD:PUBLISH
BEGIN:VEVENT
UID:69ea092944ff0
DTSTAMP:20260423T115729Z
DTSTART:20230624T093000Z
DTEND:20230624T103000Z
LOCATION:
SUMMARY:Actividades infantiles: Taller de ranas ruidosas
DESCRIPTION:Sector Embarcaciones.\nhttps://360y5.es/events/actividades-infa
 ntiles-taller-de-ranas-ruidosas/
URL:https://360y5.es/events/actividades-infantiles-taller-de-ranas-ruidosas/
END:VEVENT
END:VCALENDAR