BEGIN:VCALENDAR
VERSION:2.0
PRODID:-//eventon.com NONSGML v1.0//EN
CALSCALE:GREGORIAN
METHOD:PUBLISH
BEGIN:VEVENT
UID:69e7501ac5647
DTSTAMP:20260421T102322Z
DTSTART:20230624T103000Z
DTEND:20230624T113000Z
LOCATION:
SUMMARY:Títeres: Los tres cerditos
DESCRIPTION:Sector Embarcaciones. En la casa de la granja están de fiesta\
 ,  la mamá cerdita es una mamá trabajadora\,  es muy activa y nerviosa\, 
  va de un lado para otro pues no tiene tiempo de nada. Hoy es el cumple de 
 los tres cerditos y les recrimina que no colaboran nada[..]\nhttps://360y5.
 es/events/titeres-los-tres-cerditos/
URL:https://360y5.es/events/titeres-los-tres-cerditos/
END:VEVENT
END:VCALENDAR