BEGIN:VCALENDAR
VERSION:2.0
PRODID:-//eventon.com NONSGML v1.0//EN
CALSCALE:GREGORIAN
METHOD:PUBLISH
BEGIN:VEVENT
UID:69e75114a5eb6
DTSTAMP:20260421T102732Z
DTSTART:20230625T093000Z
DTEND:20230625T103000Z
LOCATION:
SUMMARY:Actividades infantiles: Taller de mosaicos
DESCRIPTION:Cubierta del Espacio Enrique Más.\nhttps://360y5.es/events/act
 ividades-infantiles-taller-de-mosaicos/
URL:https://360y5.es/events/actividades-infantiles-taller-de-mosaicos/
END:VEVENT
END:VCALENDAR