BEGIN:VCALENDAR
VERSION:2.0
PRODID:-//eventon.com NONSGML v1.0//EN
CALSCALE:GREGORIAN
METHOD:PUBLISH
BEGIN:VEVENT
UID:69e74c9ca0e4e
DTSTAMP:20260421T100828Z
DTSTART:20230625T103000Z
DTEND:20230625T113000Z
LOCATION:
SUMMARY:VIII Festival Circalle3C: Circus Paradaise
DESCRIPTION:Cubierta del Espacio Enrique Mas. La Escuela de Circo Carampa n
 os trae esta propuesta de circo\,  danza y teatro en la que un elenco de jÃ
 ³venes artistas\,  acompaÃ±ado por la experiencia y saber hacer de un nutri
 do equipo docente y artÃ­stico\,  se lanzan a un viaje en el que soÃ±aremos
 \, [..]\nhttps://360y5.es/events/circus-paradaise/
URL:https://360y5.es/events/circus-paradaise/
END:VEVENT
END:VCALENDAR