BEGIN:VCALENDAR
VERSION:2.0
PRODID:-//eventon.com NONSGML v1.0//EN
CALSCALE:GREGORIAN
METHOD:PUBLISH
BEGIN:VEVENT
UID:69e74e5d4dc0d
DTSTAMP:20260421T101557Z
DTSTART:20230623T200000Z
DTEND:20230622T225500Z
LOCATION:
SUMMARY:Conciertos escenario joven
DESCRIPTION:22:00 h. &#8211; Intimate (Pop-Rock) 23:00 h. &#8211; Soulmates
  (Soul) 02:00 h. &#8211; Lovegeneration: Dj Kibou &amp; Dj Salao (Música E
 lectrónica) 03:30 h. &#8211; J&amp;R Vivares (Electrónica / House / Techn
 o House) 05:00 h. &#8211; Fin actuaciones\nhttps://360y5.es/events/conciert
 os-escenario-joven-7/
URL:https://360y5.es/events/conciertos-escenario-joven-7/
END:VEVENT
END:VCALENDAR