BEGIN:VCALENDAR
VERSION:2.0
PRODID:-//eventon.com NONSGML v1.0//EN
CALSCALE:GREGORIAN
METHOD:PUBLISH
BEGIN:VEVENT
UID:69e7524047b15
DTSTAMP:20260421T103232Z
DTSTART:20230623T203000Z
DTEND:20230623T215500Z
LOCATION:Plaza de la Familia Parque Central\,  Plaza de la Familia\,  s/n
SUMMARY:Pregón de fiestas y hoguera de San Juan
DESCRIPTION:22:40 h. Queimada. Centro Gallego 23:00 h. Espectáculo de danz
 a Acontratiempo 23:30 h. Pregón de Fiestas Mayores. 23:45 h. Espectáculo 
 de fuego. Malabaristas del fuego 00:00 h. Hoguera de San Juan\nhttps://360y
 5.es/events/pregon-de-fiestas-y-hoguera-de-san-juan/
URL:https://360y5.es/events/pregon-de-fiestas-y-hoguera-de-san-juan/
END:VEVENT
END:VCALENDAR