BEGIN:VCALENDAR
VERSION:2.0
PRODID:-//eventon.com NONSGML v1.0//EN
CALSCALE:GREGORIAN
METHOD:PUBLISH
BEGIN:VEVENT
UID:69e74f714acc4
DTSTAMP:20260421T102033Z
DTSTART:20230623T210000Z
DTEND:20230623T013000Z
LOCATION:
SUMMARY:Orquesta Super Hollywood
DESCRIPTION:A las 23 horas y a partir de las 2 horas en el Escenario de orq
 uestas.\nhttps://360y5.es/events/orquesta-super-hollywood/
URL:https://360y5.es/events/orquesta-super-hollywood/
END:VEVENT
END:VCALENDAR