BEGIN:VCALENDAR
VERSION:2.0
PRODID:-//eventon.com NONSGML v1.0//EN
CALSCALE:GREGORIAN
METHOD:PUBLISH
BEGIN:VEVENT
UID:69e74d71ce980
DTSTAMP:20260421T101201Z
DTSTART:20230624T200000Z
DTEND:20230624T215500Z
LOCATION:
SUMMARY:Orquesta Manchester
DESCRIPTION:A las 22 horas y a partir de las 00:30 horas en el Escenario de
  orquestas.\nhttps://360y5.es/events/orquesta-manchester/
URL:https://360y5.es/events/orquesta-manchester/
END:VEVENT
END:VCALENDAR