BEGIN:VCALENDAR
VERSION:2.0
PRODID:-//eventon.com NONSGML v1.0//EN
CALSCALE:GREGORIAN
METHOD:PUBLISH
BEGIN:VEVENT
UID:69e74d778a460
DTSTAMP:20260421T101207Z
DTSTART:20230624T190000Z
DTEND:20230623T225500Z
LOCATION:
SUMMARY:Conciertos escenario joven
DESCRIPTION:21:00 h. Acontratiempo (escuela de baile) 22:00 h. &#8211; The 
 Damage Case (Rock Punk) 00:30 h. &#8211; Selvajes (Indie Rock) 02:00 h. &#8
 211; COTO (Electrónica) 03:30 h. &#8211; KᴓZAR b2b SKUALᴓ 05:00 h. &#8
 211; Fin actuaciones\nhttps://360y5.es/events/conciertos-escenario-joven-8/
URL:https://360y5.es/events/conciertos-escenario-joven-8/
END:VEVENT
END:VCALENDAR