BEGIN:VCALENDAR
VERSION:2.0
PRODID:-//eventon.com NONSGML v1.0//EN
CALSCALE:GREGORIAN
METHOD:PUBLISH
BEGIN:VEVENT
UID:69e74e5d3802d
DTSTAMP:20260421T101557Z
DTSTART:20230611T100000Z
DTEND:20230611T110000Z
LOCATION:Auditorio municipal
SUMMARY:Concierto del taller Ópera Andante
DESCRIPTION:Escuela municipal de música. Entrada: Libre hasta completar af
 oro.\nhttps://360y5.es/events/concierto-del-taller-opera-andante-2/
URL:https://360y5.es/events/concierto-del-taller-opera-andante-2/
END:VEVENT
END:VCALENDAR