BEGIN:VCALENDAR
VERSION:2.0
PRODID:-//eventon.com NONSGML v1.0//EN
CALSCALE:GREGORIAN
METHOD:PUBLISH
BEGIN:VEVENT
UID:69e74dc0c6fce
DTSTAMP:20260421T101320Z
DTSTART:20230625T190000Z
DTEND:20230625T200000Z
LOCATION:Plaza de la Familia Parque Central\,  Plaza de la Familia\,  s/n
SUMMARY:Paella popular
DESCRIPTION:Precio ración: 3 euros.\nhttps://360y5.es/events/paella-popula
 r-2/
URL:https://360y5.es/events/paella-popular-2/
END:VEVENT
END:VCALENDAR