BEGIN:VCALENDAR
VERSION:2.0
PRODID:-//eventon.com NONSGML v1.0//EN
CALSCALE:GREGORIAN
METHOD:PUBLISH
BEGIN:VEVENT
UID:69e73afacc52a
DTSTAMP:20260421T085314Z
DTSTART:20230625T200000Z
DTEND:20230625T215500Z
LOCATION:
SUMMARY:Orquesta Azabache
DESCRIPTION:A las 22 horas y a partir de las 00:00 horas en el Escenario de
  orquestas.\nhttps://360y5.es/events/orquesta-azabache/
URL:https://360y5.es/events/orquesta-azabache/
END:VEVENT
END:VCALENDAR