BEGIN:VCALENDAR
VERSION:2.0
PRODID:-//eventon.com NONSGML v1.0//EN
CALSCALE:GREGORIAN
METHOD:PUBLISH
BEGIN:VEVENT
UID:69e739a43a858
DTSTAMP:20260421T084732Z
DTSTART:20230625T110000Z
DTEND:20230625T120000Z
LOCATION:
SUMMARY:Banda de la Escuela Municipal de Música
DESCRIPTION:En la Plaza Central.\nhttps://360y5.es/events/banda-de-la-escue
 la-municipal-de-musica-4/
URL:https://360y5.es/events/banda-de-la-escuela-municipal-de-musica-4/
END:VEVENT
END:VCALENDAR