BEGIN:VCALENDAR
VERSION:2.0
PRODID:-//eventon.com NONSGML v1.0//EN
CALSCALE:GREGORIAN
METHOD:PUBLISH
BEGIN:VEVENT
UID:69e73a55203de
DTSTAMP:20260421T085029Z
DTSTART:20230623T183000Z
DTEND:20230623T193000Z
LOCATION:
SUMMARY:VIII Festival Circalle3C: Fuera de stock
DESCRIPTION:Sector Pintores. Fuera de stock habla de sueños\,  de esperanz
 as\,  de ilusiones\,  de la vida\,  tu vida\,  de vivirla\,  de juego… Un
 a oficina\,  un almacén\,  una fábrica… Trabajo\,  dossieres\,  ingreso
 s\,  gastos\,  balances\,  inventarios\,  beneficios\,  perdidas… ¿Traba
 jar para vivir? ¿Vivir para trabajar? ¿Dónde quedo yo? ¿Qué soy en est
 e engranaje? Un[..]\nhttps://360y5.es/events/viii-festival-circalle3c-fuera
 -de-stock/
URL:https://360y5.es/events/viii-festival-circalle3c-fuera-de-stock/
END:VEVENT
END:VCALENDAR