BEGIN:VCALENDAR
VERSION:2.0
PRODID:-//eventon.com NONSGML v1.0//EN
CALSCALE:GREGORIAN
METHOD:PUBLISH
BEGIN:VEVENT
UID:69e73aa835023
DTSTAMP:20260421T085152Z
DTSTART:20230625T200000Z
DTEND:20230625T215500Z
LOCATION:
SUMMARY:Conciertos escenario joven
DESCRIPTION:22:00 h. – Neón Blue (PoP-Rock) 01:30 h.&nbsp; Luislzy + Mxr
 exnxx + Kince + VRAPPER&nbsp; (invitado KR13) 03:00 h. &#8211; Fin actuacio
 nes\nhttps://360y5.es/events/conciertos-escenario-joven-9/
URL:https://360y5.es/events/conciertos-escenario-joven-9/
END:VEVENT
END:VCALENDAR