BEGIN:VCALENDAR
VERSION:2.0
PRODID:-//eventon.com NONSGML v1.0//EN
CALSCALE:GREGORIAN
METHOD:PUBLISH
BEGIN:VEVENT
UID:69e73aa3e7247
DTSTAMP:20260421T085147Z
DTSTART:20230625T210000Z
DTEND:20230625T215500Z
LOCATION:Lago del Parque Central
SUMMARY:Espectáculo piromusical "Magia"
DESCRIPTION:Espectáculo piromusical «Magia»\nhttps://360y5.es/events/esp
 ectaculo-piromusical/
URL:https://360y5.es/events/espectaculo-piromusical/
END:VEVENT
END:VCALENDAR